BEGIN:VCALENDAR
VERSION:2.0
PRODID:-//wp-events-plugin.com//7.2.3.1//EN
TZID:Europe/London
X-WR-TIMEZONE:Europe/London
BEGIN:VEVENT
UID:628@chichesteru3a.org.uk
DTSTART;TZID=Europe/London:20260226T184500
DTEND;TZID=Europe/London:20260226T220000
DTSTAMP:20260131T210504Z
URL:https://www.chichesteru3a.org.uk/events/quiz-evening/
SUMMARY:Quiz Evening
DESCRIPTION:Remember the  Booking Instructions!!  Bookings open at midday o
 n the first of the month and close on the Monday before the event.
CATEGORIES:Quizzes
LOCATION:New Park Centre\, New Park Road\, Chichester\, West Sussex\, PO19 
 7XY\, England
GEO:50.838390;-0.773221
X-APPLE-STRUCTURED-LOCATION;VALUE=URI;X-ADDRESS=New Park Road\, Chichester\
 , West Sussex\, PO19 7XY\, England;X-APPLE-RADIUS=100;X-TITLE=New Park Cen
 tre:geo:50.838390,-0.773221
END:VEVENT
BEGIN:VTIMEZONE
TZID:Europe/London
X-LIC-LOCATION:Europe/London
BEGIN:STANDARD
DTSTART:20251026T010000
TZOFFSETFROM:+0100
TZOFFSETTO:+0000
TZNAME:GMT
END:STANDARD
END:VTIMEZONE
END:VCALENDAR