BEGIN:VCALENDAR
VERSION:2.0
PRODID:-//wp-events-plugin.com//7.2.3.1//EN
TZID:Europe/London
X-WR-TIMEZONE:Europe/London
BEGIN:VEVENT
UID:616@chichesteru3a.org.uk
DTSTART;TZID=Europe/London:20260219T140000
DTEND;TZID=Europe/London:20260219T150000
DTSTAMP:20251121T150259Z
URL:https://www.chichesteru3a.org.uk/events/monthly-talk-2/
SUMMARY:Monthly Talk
DESCRIPTION:Southampton Water\, Slaughter and Trade - Part IIa talk by Andr
 ew Negus\n\nWe shall see how Southampton returned to being a great port an
 d left its foppish ‘Spa-days’ behind it.  Many interesting characters 
 will feature\, including 2 kings (one being the King of the Pixies)\, Jane
  Austen and a very courageous woman.  We will have to meet a pirate and a 
 sex fiend who\, together\, helped create education in the town.  For good 
 measure we have cannibals\, a lion tamer and sadly the Titanic disaster.\n
 Andrew is a retired History teacher\, an around the world backpacker (twic
 e)\, a Blue Badge guide for central southern England\, and he aspires to b
 e a local historian. He also keep chickens\, bees and daughters.
CATEGORIES:Monthly Meetings
LOCATION:The Assembly Room\, North Street\, Chichester\, West Sussex\, PO19
  1LQ\, United Kingdom
GEO:50.837269;-0.77846
X-APPLE-STRUCTURED-LOCATION;VALUE=URI;X-ADDRESS=North Street\, Chichester\,
  West Sussex\, PO19 1LQ\, United Kingdom;X-APPLE-RADIUS=100;X-TITLE=The As
 sembly Room:geo:50.837269,-0.77846
END:VEVENT
BEGIN:VTIMEZONE
TZID:Europe/London
X-LIC-LOCATION:Europe/London
BEGIN:STANDARD
DTSTART:20251026T010000
TZOFFSETFROM:+0100
TZOFFSETTO:+0000
TZNAME:GMT
END:STANDARD
END:VTIMEZONE
END:VCALENDAR