BEGIN:VCALENDAR
VERSION:2.0
PRODID:-//wp-events-plugin.com//7.2.3.1//EN
TZID:Europe/London
X-WR-TIMEZONE:Europe/London
BEGIN:VEVENT
UID:625@chichesteru3a.org.uk
DTSTART;TZID=Europe/London:20261210T140000
DTEND;TZID=Europe/London:20261210T150000
DTSTAMP:20251121T153513Z
URL:https://www.chichesteru3a.org.uk/events/monthly-talk-11/
SUMMARY:Monthly Talk
DESCRIPTION:The Body through the Portholea talk by Steve Herra\n\nSteve tel
 ls the true story of the disappearance of a female actress whilst sailing 
 from Cape Town to Southampton in 1947\, the audience act as the jury. Stev
 e is third generation of Cunard seafarers and has been delivering talks to
  Probus\, U3A\, WI and many others over the last nine years.
CATEGORIES:Monthly Meetings
LOCATION:The Assembly Room\, North Street\, Chichester\, West Sussex\, PO19
  1LQ\, United Kingdom
GEO:50.837269;-0.77846
X-APPLE-STRUCTURED-LOCATION;VALUE=URI;X-ADDRESS=North Street\, Chichester\,
  West Sussex\, PO19 1LQ\, United Kingdom;X-APPLE-RADIUS=100;X-TITLE=The As
 sembly Room:geo:50.837269,-0.77846
END:VEVENT
BEGIN:VTIMEZONE
TZID:Europe/London
X-LIC-LOCATION:Europe/London
BEGIN:STANDARD
DTSTART:20261025T010000
TZOFFSETFROM:+0100
TZOFFSETTO:+0000
TZNAME:GMT
END:STANDARD
END:VTIMEZONE
END:VCALENDAR