BEGIN:VCALENDAR
VERSION:2.0
PRODID:-//wp-events-plugin.com//7.2.3.1//EN
TZID:Europe/London
X-WR-TIMEZONE:Europe/London
BEGIN:VEVENT
UID:614@chichesteru3a.org.uk
DTSTART;TZID=Europe/London:20260203T100000
DTEND;TZID=Europe/London:20260203T120000
DTSTAMP:20251129T232755Z
URL:https://www.chichesteru3a.org.uk/events/monthly-coffee-morning-17/
SUMMARY:Coffee Morning
DESCRIPTION:At coffee morning there will be break-out tables for new groups
  as detailed in the Bulletin.
CATEGORIES:Coffee Mornings
LOCATION:Minerva Bar\, Chichester Festival Theatre\, Oaklands Park\, Chiche
 ster\, PO19 6AP\, United Kingdom
GEO:50.8429694;-0.7772910999999567
X-APPLE-STRUCTURED-LOCATION;VALUE=URI;X-ADDRESS=Oaklands Park\, Chichester\
 , PO19 6AP\, United Kingdom;X-APPLE-RADIUS=100;X-TITLE=Minerva Bar\, Chich
 ester Festival Theatre:geo:50.8429694,-0.7772910999999567
END:VEVENT
BEGIN:VTIMEZONE
TZID:Europe/London
X-LIC-LOCATION:Europe/London
BEGIN:STANDARD
DTSTART:20251026T010000
TZOFFSETFROM:+0100
TZOFFSETTO:+0000
TZNAME:GMT
END:STANDARD
END:VTIMEZONE
END:VCALENDAR